BEGIN:VCALENDAR
VERSION:2.0
PRODID:-//jEvents 2.0 for Joomla//EN
CALSCALE:GREGORIAN
METHOD:PUBLISH
BEGIN:VTIMEZONE
TZID:Europe/Berlin
BEGIN:STANDARD
DTSTART:20241027T020000
RDATE:20250330T030000
TZOFFSETFROM:+0200
TZOFFSETTO:+0100
TZNAME:Europe/Berlin CET
END:STANDARD
BEGIN:STANDARD
DTSTART:20251026T020000
RDATE:20260329T030000
TZOFFSETFROM:+0200
TZOFFSETTO:+0100
TZNAME:Europe/Berlin CET
END:STANDARD
BEGIN:STANDARD
DTSTART:20261025T020000
RDATE:20270328T030000
TZOFFSETFROM:+0200
TZOFFSETTO:+0100
TZNAME:Europe/Berlin CET
END:STANDARD
BEGIN:STANDARD
DTSTART:20271031T020000
RDATE:20280326T030000
TZOFFSETFROM:+0200
TZOFFSETTO:+0100
TZNAME:Europe/Berlin CET
END:STANDARD
BEGIN:STANDARD
DTSTART:20281029T020000
RDATE:20290325T030000
TZOFFSETFROM:+0200
TZOFFSETTO:+0100
TZNAME:Europe/Berlin CET
END:STANDARD
BEGIN:STANDARD
DTSTART:20291028T020000
RDATE:20300331T030000
TZOFFSETFROM:+0200
TZOFFSETTO:+0100
TZNAME:Europe/Berlin CET
END:STANDARD
BEGIN:STANDARD
DTSTART:20301027T020000
RDATE:20310330T030000
TZOFFSETFROM:+0200
TZOFFSETTO:+0100
TZNAME:Europe/Berlin CET
END:STANDARD
BEGIN:STANDARD
DTSTART:20311026T020000
RDATE:20320328T030000
TZOFFSETFROM:+0200
TZOFFSETTO:+0100
TZNAME:Europe/Berlin CET
END:STANDARD
BEGIN:DAYLIGHT
DTSTART:20240624T080000
RDATE:20241027T020000
TZOFFSETFROM:+0100
TZOFFSETTO:+0200
TZNAME:Europe/Berlin CEST
END:DAYLIGHT
BEGIN:DAYLIGHT
DTSTART:20250330T030000
RDATE:20251026T020000
TZOFFSETFROM:+0100
TZOFFSETTO:+0200
TZNAME:Europe/Berlin CEST
END:DAYLIGHT
BEGIN:DAYLIGHT
DTSTART:20260329T030000
RDATE:20261025T020000
TZOFFSETFROM:+0100
TZOFFSETTO:+0200
TZNAME:Europe/Berlin CEST
END:DAYLIGHT
BEGIN:DAYLIGHT
DTSTART:20270328T030000
RDATE:20271031T020000
TZOFFSETFROM:+0100
TZOFFSETTO:+0200
TZNAME:Europe/Berlin CEST
END:DAYLIGHT
BEGIN:DAYLIGHT
DTSTART:20280326T030000
RDATE:20281029T020000
TZOFFSETFROM:+0100
TZOFFSETTO:+0200
TZNAME:Europe/Berlin CEST
END:DAYLIGHT
BEGIN:DAYLIGHT
DTSTART:20290325T030000
RDATE:20291028T020000
TZOFFSETFROM:+0100
TZOFFSETTO:+0200
TZNAME:Europe/Berlin CEST
END:DAYLIGHT
BEGIN:DAYLIGHT
DTSTART:20300331T030000
RDATE:20301027T020000
TZOFFSETFROM:+0100
TZOFFSETTO:+0200
TZNAME:Europe/Berlin CEST
END:DAYLIGHT
BEGIN:DAYLIGHT
DTSTART:20310330T030000
RDATE:20311026T020000
TZOFFSETFROM:+0100
TZOFFSETTO:+0200
TZNAME:Europe/Berlin CEST
END:DAYLIGHT
END:VTIMEZONE
BEGIN:VEVENT
UID:ce863ba25053e585a8fceaa766440977
CATEGORIES:Training
CREATED:20250304T122232
SUMMARY:Vereinstraining Schwimmbad Itzehoe
DESCRIPTION:Jeden Mittwoch findet unser Vereinstraining im Schwimmbad Itzehoe außerhalb
  der Öffnungszeiten statt.\nAnmeldungen bitte vorher über Holger Wiese\nDie
 se E-Mail-Adresse ist vor Spambots geschützt! Zur Anzeige muss JavaScript e
 ingeschaltet sein!
				document.getElementById('cloak8bde79851ad2854d238dc3
 d6fbb55768').innerHTML = '';
				var prefix = '&#109;a' + 'i&#108;' + '&#11
 6;o';
				var path = 'hr' + 'ef' + '=';
				var addy8bde79851ad2854d238dc3d
 6fbb55768 = 'h&#111;lg&#101;r.w&#105;&#101;s&#101;' + '&#64;';
				addy8bde
 79851ad2854d238dc3d6fbb55768 = addy8bde79851ad2854d238dc3d6fbb55768 + 't&#9
 7;&#117;chcl&#117;b-&#97;ct&#105;n&#105;&#97;' + '&#46;' + 'd&#101;';
				v
 ar addy_text8bde79851ad2854d238dc3d6fbb55768 = 'h&#111;lg&#101;r.w&#105;&#1
 01;s&#101;' + '&#64;' + 't&#97;&#117;chcl&#117;b-&#97;ct&#105;n&#105;&#97;'
  + '&#46;' + 'd&#101;';document.getElementById('cloak8bde79851ad2854d238dc3
 d6fbb55768').innerHTML += '<a ' + path + '\'' + prefix + ':' + addy8bde7985
 1ad2854d238dc3d6fbb55768 + '\' style="color: #0088cc;">'+addy_text8bde79851
 ad2854d238dc3d6fbb55768+'';
		oder \nHelge Petersen\nDiese E-Mail-Adresse i
 st vor Spambots geschützt! Zur Anzeige muss JavaScript eingeschaltet sein!

 				document.getElementById('cloakbfed7655f54c869229fcbd3fe4967d0a').innerH
 TML = '';
				var prefix = '&#109;a' + 'i&#108;' + '&#116;o';
				var path 
 = 'hr' + 'ef' + '=';
				var addybfed7655f54c869229fcbd3fe4967d0a = 'h&#101
 ;lg&#101;.p&#101;t&#101;rs&#101;n' + '&#64;';
				addybfed7655f54c869229fcb
 d3fe4967d0a = addybfed7655f54c869229fcbd3fe4967d0a + 't&#97;&#117;chcl&#117
 ;b-&#97;ct&#105;n&#97;' + '&#46;' + 'd&#101;';
				var addy_textbfed7655f54
 c869229fcbd3fe4967d0a = 'h&#101;lg&#101;.p&#101;t&#101;rs&#101;n' + '&#64;'
  + 't&#97;&#117;chcl&#117;b-&#97;ct&#105;n&#97;' + '&#46;' + 'd&#101;';docu
 ment.getElementById('cloakbfed7655f54c869229fcbd3fe4967d0a').innerHTML += '
 <a ' + path + '\'' + prefix + ':' + addybfed7655f54c869229fcbd3fe4967d0a + 
 '\' style="color: #0088cc;">'+addy_textbfed7655f54c869229fcbd3fe4967d0a+'';
 
		
X-ALT-DESC;FMTTYPE=text/html:<p>Jeden Mittwoch findet unser Vereinstraining im Schwimmbad Itzehoe au&szl
 ig;erhalb der &Ouml;ffnungszeiten statt.</p><p>Anmeldungen bitte vorher &uu
 ml;ber Holger Wiese</p><table border="0" class="contentpaneopen" style="bac
 kground-color: #ffffff; width: 100%;" cellspacing="0" cellpadding="0"><tbod
 y><tr><td><span id="cloak84d60dc81fc746de5f37990fce7be6df"><span id="cloak8
 bde79851ad2854d238dc3d6fbb55768">Diese E-Mail-Adresse ist vor Spambots gesc
 hützt! Zur Anzeige muss JavaScript eingeschaltet sein!</span><script type='
 text/javascript'>
				document.getElementById('cloak8bde79851ad2854d238dc3d
 6fbb55768').innerHTML = '';
				var prefix = '&#109;a' + 'i&#108;' + '&#116
 ;o';
				var path = 'hr' + 'ef' + '=';
				var addy8bde79851ad2854d238dc3d6
 fbb55768 = 'h&#111;lg&#101;r.w&#105;&#101;s&#101;' + '&#64;';
				addy8bde7
 9851ad2854d238dc3d6fbb55768 = addy8bde79851ad2854d238dc3d6fbb55768 + 't&#97
 ;&#117;chcl&#117;b-&#97;ct&#105;n&#105;&#97;' + '&#46;' + 'd&#101;';
				va
 r addy_text8bde79851ad2854d238dc3d6fbb55768 = 'h&#111;lg&#101;r.w&#105;&#10
 1;s&#101;' + '&#64;' + 't&#97;&#117;chcl&#117;b-&#97;ct&#105;n&#105;&#97;' 
 + '&#46;' + 'd&#101;';document.getElementById('cloak8bde79851ad2854d238dc3d
 6fbb55768').innerHTML += '<a ' + path + '\'' + prefix + ':' + addy8bde79851
 ad2854d238dc3d6fbb55768 + '\' style="color: #0088cc;">'+addy_text8bde79851a
 d2854d238dc3d6fbb55768+'<\/a>';
		</script></span></td></tr></tbody></table
 ><p>oder&nbsp;</p><p>Helge Petersen</p><table border="0" class="contentpane
 open" style="background-color: #ffffff; width: 100%;" cellspacing="0" cellp
 adding="0"><tbody><tr><td><span id="cloaka81524a96078e7deb8f5d87b444bd7bc">
 <span id="cloakbfed7655f54c869229fcbd3fe4967d0a">Diese E-Mail-Adresse ist v
 or Spambots geschützt! Zur Anzeige muss JavaScript eingeschaltet sein!</spa
 n><script type='text/javascript'>
				document.getElementById('cloakbfed765
 5f54c869229fcbd3fe4967d0a').innerHTML = '';
				var prefix = '&#109;a' + 'i
 &#108;' + '&#116;o';
				var path = 'hr' + 'ef' + '=';
				var addybfed7655
 f54c869229fcbd3fe4967d0a = 'h&#101;lg&#101;.p&#101;t&#101;rs&#101;n' + '&#6
 4;';
				addybfed7655f54c869229fcbd3fe4967d0a = addybfed7655f54c869229fcbd3
 fe4967d0a + 't&#97;&#117;chcl&#117;b-&#97;ct&#105;n&#97;' + '&#46;' + 'd&#1
 01;';
				var addy_textbfed7655f54c869229fcbd3fe4967d0a = 'h&#101;lg&#101;.
 p&#101;t&#101;rs&#101;n' + '&#64;' + 't&#97;&#117;chcl&#117;b-&#97;ct&#105;
 n&#97;' + '&#46;' + 'd&#101;';document.getElementById('cloakbfed7655f54c869
 229fcbd3fe4967d0a').innerHTML += '<a ' + path + '\'' + prefix + ':' + addyb
 fed7655f54c869229fcbd3fe4967d0a + '\' style="color: #0088cc;">'+addy_textbf
 ed7655f54c869229fcbd3fe4967d0a+'<\/a>';
		</script></span></td></tr></tbody
 ></table>
DTSTAMP:20260423T040434
DTSTART;TZID=Europe/Berlin:20250625T080000
DTEND;TZID=Europe/Berlin:20250625T170000
SEQUENCE:0
TRANSP:OPAQUE
END:VEVENT
END:VCALENDAR