BEGIN:VCALENDAR
VERSION:2.0
PRODID:-//jEvents 2.0 for Joomla//EN
CALSCALE:GREGORIAN
METHOD:PUBLISH
BEGIN:VTIMEZONE
TZID:Europe/Berlin
BEGIN:STANDARD
DTSTART:20241027T020000
RDATE:20250330T030000
TZOFFSETFROM:+0200
TZOFFSETTO:+0100
TZNAME:Europe/Berlin CET
END:STANDARD
BEGIN:STANDARD
DTSTART:20251026T020000
RDATE:20260329T030000
TZOFFSETFROM:+0200
TZOFFSETTO:+0100
TZNAME:Europe/Berlin CET
END:STANDARD
BEGIN:STANDARD
DTSTART:20261025T020000
RDATE:20270328T030000
TZOFFSETFROM:+0200
TZOFFSETTO:+0100
TZNAME:Europe/Berlin CET
END:STANDARD
BEGIN:STANDARD
DTSTART:20271031T020000
RDATE:20280326T030000
TZOFFSETFROM:+0200
TZOFFSETTO:+0100
TZNAME:Europe/Berlin CET
END:STANDARD
BEGIN:STANDARD
DTSTART:20281029T020000
RDATE:20290325T030000
TZOFFSETFROM:+0200
TZOFFSETTO:+0100
TZNAME:Europe/Berlin CET
END:STANDARD
BEGIN:STANDARD
DTSTART:20291028T020000
RDATE:20300331T030000
TZOFFSETFROM:+0200
TZOFFSETTO:+0100
TZNAME:Europe/Berlin CET
END:STANDARD
BEGIN:STANDARD
DTSTART:20301027T020000
RDATE:20310330T030000
TZOFFSETFROM:+0200
TZOFFSETTO:+0100
TZNAME:Europe/Berlin CET
END:STANDARD
BEGIN:STANDARD
DTSTART:20311026T020000
RDATE:20320328T030000
TZOFFSETFROM:+0200
TZOFFSETTO:+0100
TZNAME:Europe/Berlin CET
END:STANDARD
BEGIN:DAYLIGHT
DTSTART:20240826T080000
RDATE:20241027T020000
TZOFFSETFROM:+0100
TZOFFSETTO:+0200
TZNAME:Europe/Berlin CEST
END:DAYLIGHT
BEGIN:DAYLIGHT
DTSTART:20250330T030000
RDATE:20251026T020000
TZOFFSETFROM:+0100
TZOFFSETTO:+0200
TZNAME:Europe/Berlin CEST
END:DAYLIGHT
BEGIN:DAYLIGHT
DTSTART:20260329T030000
RDATE:20261025T020000
TZOFFSETFROM:+0100
TZOFFSETTO:+0200
TZNAME:Europe/Berlin CEST
END:DAYLIGHT
BEGIN:DAYLIGHT
DTSTART:20270328T030000
RDATE:20271031T020000
TZOFFSETFROM:+0100
TZOFFSETTO:+0200
TZNAME:Europe/Berlin CEST
END:DAYLIGHT
BEGIN:DAYLIGHT
DTSTART:20280326T030000
RDATE:20281029T020000
TZOFFSETFROM:+0100
TZOFFSETTO:+0200
TZNAME:Europe/Berlin CEST
END:DAYLIGHT
BEGIN:DAYLIGHT
DTSTART:20290325T030000
RDATE:20291028T020000
TZOFFSETFROM:+0100
TZOFFSETTO:+0200
TZNAME:Europe/Berlin CEST
END:DAYLIGHT
BEGIN:DAYLIGHT
DTSTART:20300331T030000
RDATE:20301027T020000
TZOFFSETFROM:+0100
TZOFFSETTO:+0200
TZNAME:Europe/Berlin CEST
END:DAYLIGHT
BEGIN:DAYLIGHT
DTSTART:20310330T030000
RDATE:20311026T020000
TZOFFSETFROM:+0100
TZOFFSETTO:+0200
TZNAME:Europe/Berlin CEST
END:DAYLIGHT
END:VTIMEZONE
BEGIN:VEVENT
UID:ce863ba25053e585a8fceaa766440977
CATEGORIES:Training
CREATED:20250304T122232
SUMMARY:Vereinstraining Schwimmbad Itzehoe
DESCRIPTION:Jeden Mittwoch findet unser Vereinstraining im Schwimmbad Itzehoe außerhalb
  der Öffnungszeiten statt.\nAnmeldungen bitte vorher über Holger Wiese\nDie
 se E-Mail-Adresse ist vor Spambots geschützt! Zur Anzeige muss JavaScript e
 ingeschaltet sein!
				document.getElementById('cloak19212f37aa2dda997d52f7
 e647046f17').innerHTML = '';
				var prefix = '&#109;a' + 'i&#108;' + '&#11
 6;o';
				var path = 'hr' + 'ef' + '=';
				var addy19212f37aa2dda997d52f7e
 647046f17 = 'h&#111;lg&#101;r.w&#105;&#101;s&#101;' + '&#64;';
				addy1921
 2f37aa2dda997d52f7e647046f17 = addy19212f37aa2dda997d52f7e647046f17 + 't&#9
 7;&#117;chcl&#117;b-&#97;ct&#105;n&#105;&#97;' + '&#46;' + 'd&#101;';
				v
 ar addy_text19212f37aa2dda997d52f7e647046f17 = 'h&#111;lg&#101;r.w&#105;&#1
 01;s&#101;' + '&#64;' + 't&#97;&#117;chcl&#117;b-&#97;ct&#105;n&#105;&#97;'
  + '&#46;' + 'd&#101;';document.getElementById('cloak19212f37aa2dda997d52f7
 e647046f17').innerHTML += '<a ' + path + '\'' + prefix + ':' + addy19212f37
 aa2dda997d52f7e647046f17 + '\' style="color: #0088cc;">'+addy_text19212f37a
 a2dda997d52f7e647046f17+'';
		oder \nHelge Petersen\nDiese E-Mail-Adresse i
 st vor Spambots geschützt! Zur Anzeige muss JavaScript eingeschaltet sein!

 				document.getElementById('cloak181de2ed3050294731fc6e9091ca8edd').innerH
 TML = '';
				var prefix = '&#109;a' + 'i&#108;' + '&#116;o';
				var path 
 = 'hr' + 'ef' + '=';
				var addy181de2ed3050294731fc6e9091ca8edd = 'h&#101
 ;lg&#101;.p&#101;t&#101;rs&#101;n' + '&#64;';
				addy181de2ed3050294731fc6
 e9091ca8edd = addy181de2ed3050294731fc6e9091ca8edd + 't&#97;&#117;chcl&#117
 ;b-&#97;ct&#105;n&#97;' + '&#46;' + 'd&#101;';
				var addy_text181de2ed305
 0294731fc6e9091ca8edd = 'h&#101;lg&#101;.p&#101;t&#101;rs&#101;n' + '&#64;'
  + 't&#97;&#117;chcl&#117;b-&#97;ct&#105;n&#97;' + '&#46;' + 'd&#101;';docu
 ment.getElementById('cloak181de2ed3050294731fc6e9091ca8edd').innerHTML += '
 <a ' + path + '\'' + prefix + ':' + addy181de2ed3050294731fc6e9091ca8edd + 
 '\' style="color: #0088cc;">'+addy_text181de2ed3050294731fc6e9091ca8edd+'';
 
		
X-ALT-DESC;FMTTYPE=text/html:<p>Jeden Mittwoch findet unser Vereinstraining im Schwimmbad Itzehoe au&szl
 ig;erhalb der &Ouml;ffnungszeiten statt.</p><p>Anmeldungen bitte vorher &uu
 ml;ber Holger Wiese</p><table border="0" class="contentpaneopen" style="bac
 kground-color: #ffffff; width: 100%;" cellspacing="0" cellpadding="0"><tbod
 y><tr><td><span id="cloak84d60dc81fc746de5f37990fce7be6df"><span id="cloak1
 9212f37aa2dda997d52f7e647046f17">Diese E-Mail-Adresse ist vor Spambots gesc
 hützt! Zur Anzeige muss JavaScript eingeschaltet sein!</span><script type='
 text/javascript'>
				document.getElementById('cloak19212f37aa2dda997d52f7e
 647046f17').innerHTML = '';
				var prefix = '&#109;a' + 'i&#108;' + '&#116
 ;o';
				var path = 'hr' + 'ef' + '=';
				var addy19212f37aa2dda997d52f7e6
 47046f17 = 'h&#111;lg&#101;r.w&#105;&#101;s&#101;' + '&#64;';
				addy19212
 f37aa2dda997d52f7e647046f17 = addy19212f37aa2dda997d52f7e647046f17 + 't&#97
 ;&#117;chcl&#117;b-&#97;ct&#105;n&#105;&#97;' + '&#46;' + 'd&#101;';
				va
 r addy_text19212f37aa2dda997d52f7e647046f17 = 'h&#111;lg&#101;r.w&#105;&#10
 1;s&#101;' + '&#64;' + 't&#97;&#117;chcl&#117;b-&#97;ct&#105;n&#105;&#97;' 
 + '&#46;' + 'd&#101;';document.getElementById('cloak19212f37aa2dda997d52f7e
 647046f17').innerHTML += '<a ' + path + '\'' + prefix + ':' + addy19212f37a
 a2dda997d52f7e647046f17 + '\' style="color: #0088cc;">'+addy_text19212f37aa
 2dda997d52f7e647046f17+'<\/a>';
		</script></span></td></tr></tbody></table
 ><p>oder&nbsp;</p><p>Helge Petersen</p><table border="0" class="contentpane
 open" style="background-color: #ffffff; width: 100%;" cellspacing="0" cellp
 adding="0"><tbody><tr><td><span id="cloaka81524a96078e7deb8f5d87b444bd7bc">
 <span id="cloak181de2ed3050294731fc6e9091ca8edd">Diese E-Mail-Adresse ist v
 or Spambots geschützt! Zur Anzeige muss JavaScript eingeschaltet sein!</spa
 n><script type='text/javascript'>
				document.getElementById('cloak181de2e
 d3050294731fc6e9091ca8edd').innerHTML = '';
				var prefix = '&#109;a' + 'i
 &#108;' + '&#116;o';
				var path = 'hr' + 'ef' + '=';
				var addy181de2ed
 3050294731fc6e9091ca8edd = 'h&#101;lg&#101;.p&#101;t&#101;rs&#101;n' + '&#6
 4;';
				addy181de2ed3050294731fc6e9091ca8edd = addy181de2ed3050294731fc6e9
 091ca8edd + 't&#97;&#117;chcl&#117;b-&#97;ct&#105;n&#97;' + '&#46;' + 'd&#1
 01;';
				var addy_text181de2ed3050294731fc6e9091ca8edd = 'h&#101;lg&#101;.
 p&#101;t&#101;rs&#101;n' + '&#64;' + 't&#97;&#117;chcl&#117;b-&#97;ct&#105;
 n&#97;' + '&#46;' + 'd&#101;';document.getElementById('cloak181de2ed3050294
 731fc6e9091ca8edd').innerHTML += '<a ' + path + '\'' + prefix + ':' + addy1
 81de2ed3050294731fc6e9091ca8edd + '\' style="color: #0088cc;">'+addy_text18
 1de2ed3050294731fc6e9091ca8edd+'<\/a>';
		</script></span></td></tr></tbody
 ></table>
DTSTAMP:20260421T104426
DTSTART;TZID=Europe/Berlin:20250827T080000
DTEND;TZID=Europe/Berlin:20250827T170000
SEQUENCE:0
TRANSP:OPAQUE
END:VEVENT
END:VCALENDAR